BEGIN:VCALENDAR
METHOD:PUBLISH
VERSION:2.0
CALSCALE:GREGORIAN
PRODID:-//NONSGML WPForms//NONSGML Sugar Calendar Feeds v3.11.0//EN
X-WR-CALNAME:2021 College Art Association Annual Conference
X-WR-CALDESC:Italian Art Society
X-WR-TIMEZONE:America/Chicago
BEGIN:VTIMEZONE
TZID:America/Chicago
BEGIN:STANDARD
TZOFFSETFROM:-0500
TZOFFSETTO:-0600
DTSTART:20201101T070000
TZNAME:CST
END:STANDARD
END:VTIMEZONE
BEGIN:VTIMEZONE
TZID:America/Chicago
BEGIN:STANDARD
TZOFFSETFROM:-0500
TZOFFSETTO:-0600
DTSTART:20201101T070000
TZNAME:CST
END:STANDARD
END:VTIMEZONE
BEGIN:VEVENT
SUMMARY:2021 College Art Association Annual Conference
DESCRIPTION:Annual Business Meeting: The IAS annual business meeting wi
 ll take place via Zoom at the College Art Association from 1:30 to 2:30 
 pm Eastern time on Friday\, February 12\, 2021. To access the meeting\, 
 click here.
URL;VALUE=URI:https://www.italianartsociety.org/events/109th-college-art
 -association-annual-conference-2021-virtual/
UID:urn:uuid:0d01b832-c859-4b84-adba-802669ffaf32
STATUS:CONFIRMED
ORGANIZER:
DTSTAMP:20260423T005937Z
DTSTART;VALUE=DATE:20210210
DTEND;VALUE=DATE:20210213
LOCATION:New York (Virtual)
END:VEVENT
END:VCALENDAR