BEGIN:VCALENDAR
METHOD:PUBLISH
VERSION:2.0
CALSCALE:GREGORIAN
PRODID:-//NONSGML WPForms//NONSGML Sugar Calendar Feeds v3.11.0//EN
X-WR-CALNAME:2017 International Congress on Medieval Studies
X-WR-CALDESC:Italian Art Society
X-WR-TIMEZONE:America/Chicago
BEGIN:VTIMEZONE
TZID:America/Chicago
BEGIN:DAYLIGHT
TZOFFSETFROM:-0600
TZOFFSETTO:-0500
DTSTART:20170312T080000
TZNAME:CDT
END:DAYLIGHT
END:VTIMEZONE
BEGIN:VTIMEZONE
TZID:America/Chicago
BEGIN:DAYLIGHT
TZOFFSETFROM:-0600
TZOFFSETTO:-0500
DTSTART:20170312T080000
TZNAME:CDT
END:DAYLIGHT
END:VTIMEZONE
BEGIN:VEVENT
SUMMARY:2017 International Congress on Medieval Studies
DESCRIPTION:
URL;VALUE=URI:https://www.italianartsociety.org/events/2017-52nd-interna
 tional-congress-on-medieval-studies-may-11-14/
UID:urn:uuid:ef755911-ea36-4e6e-849c-8b15ed6c5018
STATUS:CONFIRMED
ORGANIZER:
DTSTAMP:20260423T010023Z
DTSTART;VALUE=DATE:20170511
DTEND;VALUE=DATE:20170514
END:VEVENT
END:VCALENDAR