BEGIN:VCALENDAR
METHOD:PUBLISH
VERSION:2.0
CALSCALE:GREGORIAN
PRODID:-//NONSGML WPForms//NONSGML Sugar Calendar Feeds v3.11.0//EN
X-WR-CALNAME:2018 SCSC Annual Conference
X-WR-CALDESC:Italian Art Society
X-WR-TIMEZONE:America/Chicago
BEGIN:VTIMEZONE
TZID:America/Chicago
BEGIN:DAYLIGHT
TZOFFSETFROM:-0500
TZOFFSETTO:-0500
DTSTART:20180502T120000
TZNAME:CDT
END:DAYLIGHT
END:VTIMEZONE
BEGIN:VTIMEZONE
TZID:America/Chicago
BEGIN:DAYLIGHT
TZOFFSETFROM:-0500
TZOFFSETTO:-0500
DTSTART:20180502T120000
TZNAME:CDT
END:DAYLIGHT
END:VTIMEZONE
BEGIN:VEVENT
SUMMARY:2018 SCSC Annual Conference
DESCRIPTION:
URL;VALUE=URI:https://www.italianartsociety.org/events/2018-scsc-annual-
 conference/
UID:urn:uuid:a61d82d0-2c8d-4957-a072-1dc740138ae6
STATUS:CONFIRMED
ORGANIZER:
DTSTAMP:20260423T101432Z
DTSTART;VALUE=DATE:20181101
DTEND;VALUE=DATE:20181104
LOCATION:Albuquerque\, New Mexico
END:VEVENT
END:VCALENDAR