BEGIN:VCALENDAR
METHOD:PUBLISH
VERSION:2.0
CALSCALE:GREGORIAN
PRODID:-//NONSGML WPForms//NONSGML Sugar Calendar Feeds v3.11.0//EN
X-WR-CALNAME:2023 American Association for Italian Studies Annual Confe
 rence
X-WR-CALDESC:Italian Art Society
X-WR-TIMEZONE:America/Chicago
BEGIN:VTIMEZONE
TZID:America/Chicago
BEGIN:DAYLIGHT
TZOFFSETFROM:-0600
TZOFFSETTO:-0500
DTSTART:20230312T080000
TZNAME:CDT
END:DAYLIGHT
END:VTIMEZONE
BEGIN:VTIMEZONE
TZID:America/Chicago
BEGIN:DAYLIGHT
TZOFFSETFROM:-0600
TZOFFSETTO:-0500
DTSTART:20230312T080000
TZNAME:CDT
END:DAYLIGHT
END:VTIMEZONE
BEGIN:VEVENT
SUMMARY:2023 American Association for Italian Studies Annual Conference
DESCRIPTION:
URL;VALUE=URI:https://www.italianartsociety.org/events/2023-american-ass
 ociation-for-italian-studies-annual-conference/
UID:urn:uuid:76730c2e-38ee-4117-b3f4-764f1df64fd2
STATUS:CONFIRMED
ORGANIZER:
DTSTAMP:20260421T060047Z
DTSTART;VALUE=DATE:20230518
DTEND;VALUE=DATE:20230520
END:VEVENT
END:VCALENDAR